BEGIN:VCALENDAR
VERSION:2.0
PRODID:-//dhtmlXScheduler//NONSGML v2.2//EN
X-WR-CALNAME:Wydarzenia
BEGIN:VEVENT
DTSTART:20251003T190000
DTEND:20251003T210000
UID:0
SUMMARY:Inauguracja Strings Festival Zielona Góra
END:VEVENT
BEGIN:VEVENT
DTSTART:20251017T190000
DTEND:20251017T210000
UID:1
SUMMARY:Odwieczne pieśni – Strings Festival Zielona Góra
END:VEVENT
BEGIN:VEVENT
DTSTART:20251031T190000
DTEND:20251031T210000
UID:2
SUMMARY:Refleksje – Strings Festival Zielona Góra
END:VEVENT
END:VCALENDAR