BEGIN:VCALENDAR
VERSION:2.0
PRODID:-//dhtmlXScheduler//NONSGML v2.2//EN
X-WR-CALNAME:Wydarzenia
BEGIN:VEVENT
DTSTART:20251107T190000
DTEND:20251107T210000
UID:0
SUMMARY:Koncert z okazji Święta Niepodległości
END:VEVENT
BEGIN:VEVENT
DTSTART:20251111T180000
DTEND:20251111T193000
UID:1
SUMMARY:Koncert "Tu Wolność Wzbija Się W Niebo"
END:VEVENT
BEGIN:VEVENT
DTSTART:20251111T153000
DTEND:20251111T170000
UID:2
SUMMARY:Koncert "Tu Wolność Wzbija Się W Niebo"
END:VEVENT
BEGIN:VEVENT
DTSTART:20251116T120000
DTEND:20251116T140000
UID:3
SUMMARY:Nordyckie opowieści – koncert familijny
END:VEVENT
END:VCALENDAR