BEGIN:VCALENDAR
VERSION:2.0
PRODID:-//dhtmlXScheduler//NONSGML v2.2//EN
X-WR-CALNAME:Wydarzenia
BEGIN:VEVENT
DTSTART:20250628T203000
DTEND:20250628T223000
UID:1
SUMMARY:Finał sezonu – koncert plenerowy
END:VEVENT
END:VCALENDAR