BEGIN:VCALENDAR
VERSION:2.0
PRODID:-//dhtmlXScheduler//NONSGML v2.2//EN
X-WR-CALNAME:Wydarzenia
BEGIN:VEVENT
DTSTART:20260206T190000
DTEND:20260206T210000
UID:1
SUMMARY:Kontrasty symfoniczne
END:VEVENT
END:VCALENDAR