BEGIN:VCALENDAR
VERSION:2.0
PRODID:-//dhtmlXScheduler//NONSGML v2.2//EN
X-WR-CALNAME:Wydarzenia
BEGIN:VEVENT
DTSTART:20260131T190000
DTEND:20260131T210000
UID:1
SUMMARY:Usta milczą, dusza śpiewa – Gala operetkowa
END:VEVENT
END:VCALENDAR